BEGIN:VCALENDAR
VERSION:2.0
PRODID:-//ExpressionEngine Easy iCalendar plugin//NONSGML v2.0.0//EN
X-WR-TIMEZONE:America/New_York
X-WR-CALNAME:Upcoming Auctions
BEGIN:VEVENT
UID:46594
DTSTAMP:20260421T012610
DTSTART:20260421T012610
DTEND:19691231T200000
SUMMARY:Surf Scoter by Mark Daisey
LOCATION:{location}
DESCRIPTION:Surf Scoter by Mark Daisey
URL:https://www.zebsauctions.com/auctions/detail/surf-scoter-by-
 mark-daisey-bw46594
SEQUENCE:1
END:VEVENT
END:VCALENDAR