BEGIN:VCALENDAR
VERSION:2.0
PRODID:-//ExpressionEngine Easy iCalendar plugin//NONSGML v2.0.1//EN
X-WR-TIMEZONE:America/New_York
X-WR-CALNAME:Upcoming Auctions
BEGIN:VEVENT
UID:112932
DTSTAMP:20240301T050000
DTSTART:20240301T050000
DTEND:20240310T133000
SUMMARY:Online Living Estate Auction of Severn
LOCATION:{location}
DESCRIPTION:Zeb B Barfield IncÂ  is pleased to be offering theÂ  Living 
 Estate of Severn P. "Rosebud" Custis Â  Please note\, there w
 ill be three sessions worth of auctions for this estate. Two
  sessions will consist of personal property\, with another se
 ssion consisting of the real estate.Â  Â  Personal Property 
 March 10th (items will be located at ZBB Inc Facility). Item
 s begin closing at 1:30 pm EST. We strongly encourage all it
 ems be picked up on location. NO SHIPPING on pedal cars or a
 ny items that can not be placed safely in a 24x20x20" box. Â
  (Preview Friday March 8th 4-6pm at Zeb's) Â  March 17thÂ (i
 tems will be located at the Custis residence\, Onley VA). Ite
 ms begin closing at 1:30 pm EST (Preview Friday March 15th 3
 -5pm at Custis Residence) NO SHIPPING ON ITEMS LOCATED AT CU
 STIS RESIDENCE! ALL ITEMS MUST BE PICKED UP ON LOCATION. ANY
  ITEMS LEFT (5) DAYS WITHOUT PRIOR PICKUP ARRANGEMENTS MADE 
 WILL BE FORFEITED AND RESOLD. 20% Buyers Premium will apply 
 to all personal property purchasesÂ  Â  Real Estate March 15
 th at 2:22pm EST (Auction will be held live\, on location) 6%
  Buyers Premium will apply for the real estate auction. Succ
 essful bidder responsible for $10\,000 deposit (cash\, cashier
 s check\, pre approved personal check) IMMEDIATELY following 
 the auction at the signing of the sales contract.Â  Â  All i
 tems\, both personal property AND the real estate\, will be of
 feredÂ in AS-IS conditionÂ  Â  Please contact Zeb or Josh fo
 r a private showing of the real estate.
URL:https://www.zebsauctions.com/auctions/detail/bw112932
SEQUENCE:1
END:VEVENT
END:VCALENDAR