BEGIN:VCALENDAR
VERSION:2.0
PRODID:-//ExpressionEngine Easy iCalendar plugin//NONSGML v2.0.1//EN
X-WR-TIMEZONE:America/New_York
X-WR-CALNAME:Upcoming Auctions
BEGIN:VEVENT
UID:105742
DTSTAMP:20240203T080000
DTSTART:20240203T080000
DTEND:20240203T090000
SUMMARY:Cape Charles\, VA Decoy Show 2024
LOCATION:{location}
DESCRIPTION:Zeb B Barfield Inc is pleased to announce we will be set up 
 at the  Cape Charles\, VA Decoy Show at the Oyster Farm at K
 ing's Creek in Cape Charles   Carvers\, Collectors\, Buy Sell
  and Swappers from all along Delmarva\, Back Bay\, and beyond 
 will be present with great examples of old working decoys\, c
 ontemporary decoys\, oyster cans\, framed art\, and other forms
  of sporting art and advertising.    Zeb B Barfield Inc wi
 ll be set up with select items that'll be sold in our Three
  Day Winter Sportsman's Auction in February\, and we will als
 o be accepting quality sporting consignments for future auc
 tions.    February 3rd 2024 
URL:https://www.zebsauctions.com/auctions/detail/bw105742
SEQUENCE:1
END:VEVENT
END:VCALENDAR